BEGIN:VCALENDAR
VERSION:2.0
PRODID:-//www.bym-rsf.org//NONSGML kigkonsult.se iCalcreator 2.30.10//
CALSCALE:GREGORIAN
METHOD:PUBLISH
UID:ce9b058f-909f-487e-9572-d81fffb24e8e
X-WR-CALDESC:
X-WR-RELCALID:a9b5732b19f8ec6e2f74a78303de5fa6
X-WR-TIMEZONE:America/New_York
BEGIN:VTIMEZONE
TZID:America/New_York
BEGIN:STANDARD
TZNAME:EST
DTSTART:20251102T020000
TZOFFSETFROM:-0400
TZOFFSETTO:-0500
RDATE:20261101T020000
END:STANDARD
BEGIN:DAYLIGHT
TZNAME:EDT
DTSTART:20260308T020000
TZOFFSETFROM:-0500
TZOFFSETTO:-0400
RDATE:20270314T020000
END:DAYLIGHT
END:VTIMEZONE
BEGIN:VEVENT
UID:59d99700-289e-4ba3-ba22-b47d8189d471
DTSTAMP:20260419T180040Z
DESCRIPTION:
DTSTART;TZID=America/New_York:20260419T150000
DTEND;TZID=America/New_York:20260419T160000
LOCATION:Email jesusfriends@bym-rsf.org to receive Zoom credentials and the
  scripture reading for this month.
SUMMARY:Jesus' Friends Worship Sharing
END:VEVENT
END:VCALENDAR
