BEGIN:VCALENDAR
VERSION:2.0
PRODID:-//www.bym-rsf.org//NONSGML kigkonsult.se iCalcreator 2.30.10//
CALSCALE:GREGORIAN
METHOD:PUBLISH
UID:2f28cd0a-799d-41d2-a103-e22e96239073
X-WR-CALDESC:The Ministry and Pastoral Care Committee is offering an online
  Grief Support Group. The group meets at 7:00pm on the third Wednesday of 
 each month. The next meeting is April 15. E-mail the office at admin@bym-r
 sf.org for the Zoom link and additional information.
X-WR-RELCALID:2402d3b7b55ce94102d30d119369c553
X-WR-TIMEZONE:America/New_York
BEGIN:VTIMEZONE
TZID:America/New_York
BEGIN:STANDARD
TZNAME:EST
DTSTART:20251102T020000
TZOFFSETFROM:-0400
TZOFFSETTO:-0500
RDATE:20261101T020000
END:STANDARD
BEGIN:DAYLIGHT
TZNAME:EDT
DTSTART:20260308T020000
TZOFFSETFROM:-0500
TZOFFSETTO:-0400
RDATE:20270314T020000
END:DAYLIGHT
END:VTIMEZONE
BEGIN:VEVENT
UID:cf5536b4-9c55-4bd9-8a2a-914db0e9c985
DTSTAMP:20260419T212013Z
DESCRIPTION:The Ministry and Pastoral Care Committee is offering an online 
 Grief Support Group. The group meets at 7:00pm on the third Wednesday of e
 ach month. The next meeting is April 15. E-mail the office at admin@bym-rs
 f.org for the Zoom link and additional information.
DTSTART;TZID=America/New_York:20260415T190000
DTEND;TZID=America/New_York:20260415T203000
LOCATION:
SUMMARY:Grief Support Group
END:VEVENT
END:VCALENDAR
