BEGIN:VCALENDAR
VERSION:2.0
PRODID:-//www.bym-rsf.org//NONSGML kigkonsult.se iCalcreator 2.30.10//
CALSCALE:GREGORIAN
METHOD:PUBLISH
UID:36ea2650-1d14-4636-bca1-8899adea0006
X-WR-CALDESC:Generally\, the committee meets on the 4th Monday of each mont
 h.
X-WR-RELCALID:64f5c42a00d7b61ba6c29b4db5dd3d88
X-WR-TIMEZONE:America/New_York
BEGIN:VTIMEZONE
TZID:America/New_York
BEGIN:STANDARD
TZNAME:EST
DTSTART:20251102T020000
TZOFFSETFROM:-0400
TZOFFSETTO:-0500
RDATE:20261101T020000
END:STANDARD
BEGIN:DAYLIGHT
TZNAME:EDT
DTSTART:20260308T020000
TZOFFSETFROM:-0500
TZOFFSETTO:-0400
RDATE:20270314T020000
END:DAYLIGHT
END:VTIMEZONE
BEGIN:VEVENT
UID:b214e453-1f34-4a48-86ed-5fc60fd6755f
DTSTAMP:20260422T080759Z
DESCRIPTION:Generally\, the committee meets on the 4th Monday of each month
 .
DTSTART;TZID=America/New_York:20260427T150000
DTEND;TZID=America/New_York:20260427T173000
LOCATION:
SUMMARY:Development Committee Meeting
END:VEVENT
END:VCALENDAR
