BEGIN:VCALENDAR
VERSION:2.0
PRODID:-//www.bym-rsf.org//NONSGML kigkonsult.se iCalcreator 2.30.10//
CALSCALE:GREGORIAN
METHOD:PUBLISH
UID:e4c107ce-9302-45d7-8710-c0897a3c3002
X-WR-CALDESC:
X-WR-RELCALID:6cddbb12ce5e12fc559d8de0a0d90f67
X-WR-TIMEZONE:America/New_York
BEGIN:VTIMEZONE
TZID:America/New_York
BEGIN:STANDARD
TZNAME:EST
DTSTART:20251102T020000
TZOFFSETFROM:-0400
TZOFFSETTO:-0500
RDATE:20261101T020000
END:STANDARD
BEGIN:DAYLIGHT
TZNAME:EDT
DTSTART:20260308T020000
TZOFFSETFROM:-0500
TZOFFSETTO:-0400
RDATE:20270314T020000
END:DAYLIGHT
END:VTIMEZONE
BEGIN:VEVENT
UID:d1623514-3f2b-4dcb-bf20-356f5468e88f
DTSTAMP:20260422T080758Z
DESCRIPTION:
DTSTART;TZID=America/New_York:20260502T110000
DTEND;TZID=America/New_York:20260502T180000
LOCATION:Alexandria Friends Meeting\, 8990 Woodlawn Road\, Alexandria\, VA 
 22309 US
SUMMARY:BYM RE RETREAT - CONNECTION & PLAY
END:VEVENT
END:VCALENDAR
